BEGIN:VCALENDAR
VERSION:2.0
PRODID:-//wp-events-plugin.com//7.2.3.1//EN
TZID:America/Boise
X-WR-TIMEZONE:America/Boise
BEGIN:VEVENT
UID:6@dragondads.org
DTSTART;TZID=America/Boise:20260620T150000
DTEND;TZID=America/Boise:20260620T200000
DTSTAMP:20260217T214640Z
URL:https://dragondads.org/events/rexburg-pride/
SUMMARY:Rexburg Pride
DESCRIPTION:
LOCATION:Porter Park\, S 2nd W &amp\; 3rd W\, Rexburg\, Idaho\, 83440\, Uni
 ted States
X-APPLE-STRUCTURED-LOCATION;VALUE=URI;X-ADDRESS=S 2nd W & 3rd W\, Rexburg\,
  Idaho\, 83440\, United States;X-APPLE-RADIUS=100;X-TITLE=Porter Park:geo:
 0,0
END:VEVENT
BEGIN:VTIMEZONE
TZID:America/Boise
X-LIC-LOCATION:America/Boise
BEGIN:DAYLIGHT
DTSTART:20260308T030000
TZOFFSETFROM:-0700
TZOFFSETTO:-0600
TZNAME:MDT
END:DAYLIGHT
END:VTIMEZONE
END:VCALENDAR